BEGIN:VCALENDAR
VERSION:2.0
PRODID:-//ACFEB - ECPv6.15.18//NONSGML v1.0//EN
CALSCALE:GREGORIAN
METHOD:PUBLISH
X-ORIGINAL-URL:https://acfeb.org
X-WR-CALDESC:Évènements pour ACFEB
REFRESH-INTERVAL;VALUE=DURATION:PT1H
X-Robots-Tag:noindex
X-PUBLISHED-TTL:PT1H
BEGIN:VTIMEZONE
TZID:Europe/Paris
BEGIN:DAYLIGHT
TZOFFSETFROM:+0100
TZOFFSETTO:+0200
TZNAME:CEST
DTSTART:20240331T010000
END:DAYLIGHT
BEGIN:STANDARD
TZOFFSETFROM:+0200
TZOFFSETTO:+0100
TZNAME:CET
DTSTART:20241027T010000
END:STANDARD
BEGIN:DAYLIGHT
TZOFFSETFROM:+0100
TZOFFSETTO:+0200
TZNAME:CEST
DTSTART:20250330T010000
END:DAYLIGHT
BEGIN:STANDARD
TZOFFSETFROM:+0200
TZOFFSETTO:+0100
TZNAME:CET
DTSTART:20251026T010000
END:STANDARD
BEGIN:DAYLIGHT
TZOFFSETFROM:+0100
TZOFFSETTO:+0200
TZNAME:CEST
DTSTART:20260329T010000
END:DAYLIGHT
BEGIN:STANDARD
TZOFFSETFROM:+0200
TZOFFSETTO:+0100
TZNAME:CET
DTSTART:20261025T010000
END:STANDARD
END:VTIMEZONE
BEGIN:VEVENT
DTSTART;TZID=Europe/Paris:20250515T180000
DTEND;TZID=Europe/Paris:20250515T190000
DTSTAMP:20260421T155911
CREATED:20250430T085436Z
LAST-MODIFIED:20250430T085436Z
UID:3871-1747332000-1747335600@acfeb.org
SUMMARY:Pouvoir et politique : la Bible peut-elle éclairer un temps de crise ? (Par Institut Catholique de Paris)
DESCRIPTION:Pour s’inscrire \n \n 
URL:https://acfeb.org/event/pouvoir-et-politique-la-bible-peut-elle-eclairer-un-temps-de-crise-par-institut-catholique-de-paris/
LOCATION:Institut Catholique Paris\, 21 rue d'assas\, paris\, 75006\, France
END:VEVENT
END:VCALENDAR