BEGIN:VCALENDAR
VERSION:2.0
PRODID:-//ACFEB - ECPv6.15.18//NONSGML v1.0//EN
CALSCALE:GREGORIAN
METHOD:PUBLISH
X-WR-CALNAME:ACFEB
X-ORIGINAL-URL:https://acfeb.org
X-WR-CALDESC:Évènements pour ACFEB
REFRESH-INTERVAL;VALUE=DURATION:PT1H
X-Robots-Tag:noindex
X-PUBLISHED-TTL:PT1H
BEGIN:VTIMEZONE
TZID:Europe/Paris
BEGIN:DAYLIGHT
TZOFFSETFROM:+0100
TZOFFSETTO:+0200
TZNAME:CEST
DTSTART:20240331T010000
END:DAYLIGHT
BEGIN:STANDARD
TZOFFSETFROM:+0200
TZOFFSETTO:+0100
TZNAME:CET
DTSTART:20241027T010000
END:STANDARD
BEGIN:DAYLIGHT
TZOFFSETFROM:+0100
TZOFFSETTO:+0200
TZNAME:CEST
DTSTART:20250330T010000
END:DAYLIGHT
BEGIN:STANDARD
TZOFFSETFROM:+0200
TZOFFSETTO:+0100
TZNAME:CET
DTSTART:20251026T010000
END:STANDARD
BEGIN:DAYLIGHT
TZOFFSETFROM:+0100
TZOFFSETTO:+0200
TZNAME:CEST
DTSTART:20260329T010000
END:DAYLIGHT
BEGIN:STANDARD
TZOFFSETFROM:+0200
TZOFFSETTO:+0100
TZNAME:CET
DTSTART:20261025T010000
END:STANDARD
END:VTIMEZONE
BEGIN:VEVENT
DTSTART;TZID=Europe/Paris:20250621T143000
DTEND;TZID=Europe/Paris:20250621T160000
DTSTAMP:20260421T155438
CREATED:20250603T214919Z
LAST-MODIFIED:20250603T214919Z
UID:3999-1750516200-1750521600@acfeb.org
SUMMARY:Conférence publique de Jacques DESCREUX : « Les 144 000 serviteurs de Dieu (Ap 7\,1-8 ; 14\,1-5). Quand l’exégète est perplexe » Samedi 21 Juin 2025 de 14h30 à 16h
DESCRIPTION:Voir
URL:https://acfeb.org/event/conference-publique-de-jacques-descreux-les-144-000-serviteurs-de-dieu-ap-71-8-141-5-quand-lexegete-est-perplexe-samedi-21-juin-2025-de-14h30-a-16h/
END:VEVENT
END:VCALENDAR