BEGIN:VCALENDAR
VERSION:2.0
PRODID:-//ACFEB - ECPv6.15.18//NONSGML v1.0//EN
CALSCALE:GREGORIAN
METHOD:PUBLISH
X-ORIGINAL-URL:https://acfeb.org
X-WR-CALDESC:Évènements pour ACFEB
REFRESH-INTERVAL;VALUE=DURATION:PT1H
X-Robots-Tag:noindex
X-PUBLISHED-TTL:PT1H
BEGIN:VTIMEZONE
TZID:Europe/Paris
BEGIN:DAYLIGHT
TZOFFSETFROM:+0100
TZOFFSETTO:+0200
TZNAME:CEST
DTSTART:20240331T010000
END:DAYLIGHT
BEGIN:STANDARD
TZOFFSETFROM:+0200
TZOFFSETTO:+0100
TZNAME:CET
DTSTART:20241027T010000
END:STANDARD
BEGIN:DAYLIGHT
TZOFFSETFROM:+0100
TZOFFSETTO:+0200
TZNAME:CEST
DTSTART:20250330T010000
END:DAYLIGHT
BEGIN:STANDARD
TZOFFSETFROM:+0200
TZOFFSETTO:+0100
TZNAME:CET
DTSTART:20251026T010000
END:STANDARD
BEGIN:DAYLIGHT
TZOFFSETFROM:+0100
TZOFFSETTO:+0200
TZNAME:CEST
DTSTART:20260329T010000
END:DAYLIGHT
BEGIN:STANDARD
TZOFFSETFROM:+0200
TZOFFSETTO:+0100
TZNAME:CET
DTSTART:20261025T010000
END:STANDARD
END:VTIMEZONE
BEGIN:VEVENT
DTSTART;TZID=Europe/Paris:20250625T143000
DTEND;TZID=Europe/Paris:20250625T170000
DTSTAMP:20260421T113104
CREATED:20250624T074010Z
LAST-MODIFIED:20250624T080824Z
UID:4026-1750861800-1750870800@acfeb.org
SUMMARY:Obsèques d'Anne-Claire BOLOTTE\, membre de l'ACFEB
DESCRIPTION:Voir l’article
URL:https://acfeb.org/event/deces-danne-claire-bolotte-membre-de-lacfeb/
LOCATION:Église Saint-Jean-Baptiste- de-Grenelle\,\, 14\, place Étienne-Pernet\,\, Paris 15eme\, France
END:VEVENT
END:VCALENDAR