BEGIN:VCALENDAR
VERSION:2.0
PRODID:-//ACFEB - ECPv6.15.18//NONSGML v1.0//EN
CALSCALE:GREGORIAN
METHOD:PUBLISH
X-ORIGINAL-URL:https://acfeb.org
X-WR-CALDESC:Évènements pour ACFEB
REFRESH-INTERVAL;VALUE=DURATION:PT1H
X-Robots-Tag:noindex
X-PUBLISHED-TTL:PT1H
BEGIN:VTIMEZONE
TZID:Europe/Paris
BEGIN:DAYLIGHT
TZOFFSETFROM:+0100
TZOFFSETTO:+0200
TZNAME:CEST
DTSTART:20240331T010000
END:DAYLIGHT
BEGIN:STANDARD
TZOFFSETFROM:+0200
TZOFFSETTO:+0100
TZNAME:CET
DTSTART:20241027T010000
END:STANDARD
BEGIN:DAYLIGHT
TZOFFSETFROM:+0100
TZOFFSETTO:+0200
TZNAME:CEST
DTSTART:20250330T010000
END:DAYLIGHT
BEGIN:STANDARD
TZOFFSETFROM:+0200
TZOFFSETTO:+0100
TZNAME:CET
DTSTART:20251026T010000
END:STANDARD
BEGIN:DAYLIGHT
TZOFFSETFROM:+0100
TZOFFSETTO:+0200
TZNAME:CEST
DTSTART:20260329T010000
END:DAYLIGHT
BEGIN:STANDARD
TZOFFSETFROM:+0200
TZOFFSETTO:+0100
TZNAME:CET
DTSTART:20261025T010000
END:STANDARD
END:VTIMEZONE
BEGIN:VEVENT
DTSTART;TZID=Europe/Paris:20250515T180000
DTEND;TZID=Europe/Paris:20250515T190000
DTSTAMP:20260421T141727
CREATED:20250430T085436Z
LAST-MODIFIED:20250430T085436Z
UID:3871-1747332000-1747335600@acfeb.org
SUMMARY:Pouvoir et politique : la Bible peut-elle éclairer un temps de crise ? (Par Institut Catholique de Paris)
DESCRIPTION:Pour s’inscrire \n \n 
URL:https://acfeb.org/event/pouvoir-et-politique-la-bible-peut-elle-eclairer-un-temps-de-crise-par-institut-catholique-de-paris/
LOCATION:Institut Catholique Paris\, 21 rue d'assas\, paris\, 75006\, France
END:VEVENT
BEGIN:VEVENT
DTSTART;TZID=Europe/Paris:20250516T093000
DTEND;TZID=Europe/Paris:20250516T170000
DTSTAMP:20260421T141727
CREATED:20250311T113107Z
LAST-MODIFIED:20250311T113107Z
UID:3734-1747387800-1747414800@acfeb.org
SUMMARY:« L’iniquité dévastera la terre entière » (Sg 5\,23). La Bible etle problème du mal. 16/05/2025
DESCRIPTION:Stéphane Beauboeuf (ICP) \nLe mal\, sous ses multiples formes\, est omniprésent. \nQu’il soit moral ou physique\, ses ramifications sont si étendues que nous avons souvent le sentiment d’être dépassés collectivement par cette situation. L’histoire d’Israël est bien sûr marquée par cette expérience et la littérature biblique propose des pistes pour aborder le problème : d’où vient le mal ? \nComment le reconnaître\, le combattre\, s’en libérer ? \nEn examinant la manière dont les textes tentent de répondre à ces questions\, nous pourrons du même coup approfondir notre compréhension du salut. \n Chemins de Bible : Lire la Bible avec les questions d’aujourd’hui 2024/2025 \n\n\n\n\nCycle de 6 journées thématiques pour une découverte du corpus biblique à partir de questions contemporaines – ACCESSIBLE AUSSI A DISTANCE \nVoir
URL:https://acfeb.org/event/liniquite-devastera-la-terre-entiere-sg-523-la-bible-etle-probleme-du-mal-16-05-2025/
LOCATION:Institut Catholique Paris\, 21 rue d'assas\, paris\, 75006\, France
END:VEVENT
BEGIN:VEVENT
DTSTART;VALUE=DATE:20250521
DTEND;VALUE=DATE:20250524
DTSTAMP:20260421T141727
CREATED:20250311T105447Z
LAST-MODIFIED:20250311T105447Z
UID:3724-1747785600-1748044799@acfeb.org
SUMMARY:ACEBAC / Congres 2025
DESCRIPTION:Congrès 2025 – Vivre et croire au coeur des conflits – Université de Montréal (Montréal\, Québec)\n\nLe prochain congrès conjoint de la SCT et de l’ACÉBAC se tiendra du 21 au 23 mai 2025 à l’Institut d’études religieuses de l’Université de Montréal (Montréal\, Québec). \nAppel à communication – Vivre et croise au coeur des conflits \nLe programme et les détails pour s’y inscrire paraîtront au début de 2025.
URL:https://acfeb.org/event/acebac-congres-2025/
LOCATION:UNIVERSITE MONTREAL\, 2900 Bd Édouard-Montpetit\, MONTREAL\, Canada
END:VEVENT
END:VCALENDAR